BEGIN:VCALENDAR
VERSION:2.0
PRODID:-//DAV - ECPv6.15.20//NONSGML v1.0//EN
CALSCALE:GREGORIAN
METHOD:PUBLISH
X-WR-CALNAME:DAV
X-ORIGINAL-URL:https://www.dav.org
X-WR-CALDESC:Events for DAV
REFRESH-INTERVAL;VALUE=DURATION:PT1H
X-Robots-Tag:noindex
X-PUBLISHED-TTL:PT1H
BEGIN:VTIMEZONE
TZID:America/Kentucky/Louisville
BEGIN:DAYLIGHT
TZOFFSETFROM:-0500
TZOFFSETTO:-0400
TZNAME:EDT
DTSTART:20250309T070000
END:DAYLIGHT
BEGIN:STANDARD
TZOFFSETFROM:-0400
TZOFFSETTO:-0500
TZNAME:EST
DTSTART:20251102T060000
END:STANDARD
BEGIN:DAYLIGHT
TZOFFSETFROM:-0500
TZOFFSETTO:-0400
TZNAME:EDT
DTSTART:20260308T070000
END:DAYLIGHT
BEGIN:STANDARD
TZOFFSETFROM:-0400
TZOFFSETTO:-0500
TZNAME:EST
DTSTART:20261101T060000
END:STANDARD
BEGIN:DAYLIGHT
TZOFFSETFROM:-0500
TZOFFSETTO:-0400
TZNAME:EDT
DTSTART:20270314T070000
END:DAYLIGHT
BEGIN:STANDARD
TZOFFSETFROM:-0400
TZOFFSETTO:-0500
TZNAME:EST
DTSTART:20271107T060000
END:STANDARD
END:VTIMEZONE
BEGIN:VEVENT
DTSTART;VALUE=DATE:20260423
DTEND;VALUE=DATE:20260424
DTSTAMP:20260425T092701
CREATED:20251105T195528Z
LAST-MODIFIED:20260114T115421Z
UID:10000963-1776902400-1776988799@www.dav.org
SUMMARY:Joint Base Lewis-McChord Job Fair\, April 23\, 2026
DESCRIPTION:Find out more
URL:https://www.dav.org/events-calendar/joint-base-lewis-mcchord-job-fair-april-23-2026/
END:VEVENT
BEGIN:VEVENT
DTSTART;VALUE=DATE:20260423
DTEND;VALUE=DATE:20260424
DTSTAMP:20260425T092701
CREATED:20251105T195619Z
LAST-MODIFIED:20260114T115435Z
UID:10000964-1776902400-1776988799@www.dav.org
SUMMARY:Norfolk Job Fair\, April 23\, 2026
DESCRIPTION:Find out more
URL:https://www.dav.org/events-calendar/norfolk-job-fair-april-23-2026/
END:VEVENT
BEGIN:VEVENT
DTSTART;VALUE=DATE:20260423
DTEND;VALUE=DATE:20260424
DTSTAMP:20260425T092701
CREATED:20260406T142616Z
LAST-MODIFIED:20260406T142616Z
UID:10001112-1776902400-1776988799@www.dav.org
SUMMARY:Tennessee Information Seminar
DESCRIPTION:9:00am – 9:30am \n225 Keith St. SW\nNashville\, TN\nFrank Budd\n615-695-6384\ndav.vbanas@va.gov \n 
URL:https://www.dav.org/events-calendar/tennessee-information-seminar-11/
END:VEVENT
BEGIN:VEVENT
DTSTART;VALUE=DATE:20260423
DTEND;VALUE=DATE:20260424
DTSTAMP:20260425T092701
CREATED:20260406T142725Z
LAST-MODIFIED:20260406T142725Z
UID:10001113-1776902400-1776988799@www.dav.org
SUMMARY:Wisconsin Information Seminar
DESCRIPTION:1:00pm – 4:00pm \n120 Jackson Street\nMilwaukee\, WI\nBrian Wilson\n414-902-5736\ndav.vbamiw@va.gov \n 
URL:https://www.dav.org/events-calendar/wisconsin-information-seminar-13/
END:VEVENT
BEGIN:VEVENT
DTSTART;VALUE=DATE:20260423
DTEND;VALUE=DATE:20260426
DTSTAMP:20260425T092701
CREATED:20260115T121901Z
LAST-MODIFIED:20260115T121901Z
UID:10001056-1776902400-1777161599@www.dav.org
SUMMARY:Maine Department Convention
DESCRIPTION:April 23 – 25\, 2026 \nGrand Summit Hotel\nNewry\, ME \nBanquet date – April 25
URL:https://www.dav.org/events-calendar/maine-department-convention-4/
END:VEVENT
END:VCALENDAR