BEGIN:VCALENDAR
VERSION:2.0
PRODID:-//DAV - ECPv6.15.20//NONSGML v1.0//EN
CALSCALE:GREGORIAN
METHOD:PUBLISH
X-WR-CALNAME:DAV
X-ORIGINAL-URL:https://www.dav.org
X-WR-CALDESC:Events for DAV
REFRESH-INTERVAL;VALUE=DURATION:PT1H
X-Robots-Tag:noindex
X-PUBLISHED-TTL:PT1H
BEGIN:VTIMEZONE
TZID:America/Kentucky/Louisville
BEGIN:DAYLIGHT
TZOFFSETFROM:-0500
TZOFFSETTO:-0400
TZNAME:EDT
DTSTART:20240310T070000
END:DAYLIGHT
BEGIN:STANDARD
TZOFFSETFROM:-0400
TZOFFSETTO:-0500
TZNAME:EST
DTSTART:20241103T060000
END:STANDARD
BEGIN:DAYLIGHT
TZOFFSETFROM:-0500
TZOFFSETTO:-0400
TZNAME:EDT
DTSTART:20250309T070000
END:DAYLIGHT
BEGIN:STANDARD
TZOFFSETFROM:-0400
TZOFFSETTO:-0500
TZNAME:EST
DTSTART:20251102T060000
END:STANDARD
BEGIN:DAYLIGHT
TZOFFSETFROM:-0500
TZOFFSETTO:-0400
TZNAME:EDT
DTSTART:20260308T070000
END:DAYLIGHT
BEGIN:STANDARD
TZOFFSETFROM:-0400
TZOFFSETTO:-0500
TZNAME:EST
DTSTART:20261101T060000
END:STANDARD
END:VTIMEZONE
BEGIN:VEVENT
DTSTART;VALUE=DATE:20250608
DTEND;VALUE=DATE:20250614
DTSTAMP:20260423T093342
CREATED:20250108T164457Z
LAST-MODIFIED:20250108T164457Z
UID:10000685-1749340800-1749859199@www.dav.org
SUMMARY:Michigan Department Convention
DESCRIPTION:Soaring Eagle Casino & Resort Center\nMount Pleasant\, MI \nBanquet date – June 11
URL:https://www.dav.org/events-calendar/michigan-department-convention-3/
END:VEVENT
BEGIN:VEVENT
DTSTART;VALUE=DATE:20250608
DTEND;VALUE=DATE:20250614
DTSTAMP:20260423T093342
CREATED:20250108T164543Z
LAST-MODIFIED:20250108T164543Z
UID:10000686-1749340800-1749859199@www.dav.org
SUMMARY:Tennessee Department Convention
DESCRIPTION:Drury Plaza\nFranklin\, TN \nBanquet date – June 12
URL:https://www.dav.org/events-calendar/tennessee-department-convention-3/
END:VEVENT
BEGIN:VEVENT
DTSTART;VALUE=DATE:20250612
DTEND;VALUE=DATE:20250613
DTSTAMP:20260423T093342
CREATED:20250108T191453Z
LAST-MODIFIED:20250108T191453Z
UID:10000742-1749686400-1749772799@www.dav.org
SUMMARY:Houston Job Fair\, June 12\, 2025
DESCRIPTION:Find out more
URL:https://www.dav.org/events-calendar/houston-job-fair-june-12-2025/
END:VEVENT
BEGIN:VEVENT
DTSTART;VALUE=DATE:20250612
DTEND;VALUE=DATE:20250613
DTSTAMP:20260423T093342
CREATED:20250108T191544Z
LAST-MODIFIED:20250108T191544Z
UID:10000743-1749686400-1749772799@www.dav.org
SUMMARY:Joint Base Langley-Eustis Area Job Fair\, June 12\, 2025
DESCRIPTION:Find out more
URL:https://www.dav.org/events-calendar/joint-base-langley-eustis-area-job-fair-june-12-2025/
END:VEVENT
BEGIN:VEVENT
DTSTART;VALUE=DATE:20250612
DTEND;VALUE=DATE:20250615
DTSTAMP:20260423T093342
CREATED:20250108T164630Z
LAST-MODIFIED:20250108T164630Z
UID:10000687-1749686400-1749945599@www.dav.org
SUMMARY:Florida Department Convention
DESCRIPTION:Lake Mary Marriott\nLake Mary\, FL \nBanquet date – June 14
URL:https://www.dav.org/events-calendar/florida-department-convention-3/
END:VEVENT
BEGIN:VEVENT
DTSTART;VALUE=DATE:20250612
DTEND;VALUE=DATE:20250615
DTSTAMP:20260423T093342
CREATED:20250108T164711Z
LAST-MODIFIED:20250108T164711Z
UID:10000688-1749686400-1749945599@www.dav.org
SUMMARY:Wisconsin Department Convention
DESCRIPTION:Oneida Convention Center & Casino\nGreen Bay\, WI \nBanquet date – June 14
URL:https://www.dav.org/events-calendar/wisconsin-department-convention-3/
END:VEVENT
BEGIN:VEVENT
DTSTART;VALUE=DATE:20250612
DTEND;VALUE=DATE:20250616
DTSTAMP:20260423T093342
CREATED:20250108T164757Z
LAST-MODIFIED:20250108T164757Z
UID:10000689-1749686400-1750031999@www.dav.org
SUMMARY:North Carolina Department Convention
DESCRIPTION:Hilton Raleigh North Hills\nRaleigh\, NC \nBanquet date – June 14
URL:https://www.dav.org/events-calendar/north-carolina-department-convention-3/
END:VEVENT
BEGIN:VEVENT
DTSTART;VALUE=DATE:20250612
DTEND;VALUE=DATE:20250616
DTSTAMP:20260423T093342
CREATED:20250108T164846Z
LAST-MODIFIED:20250108T164846Z
UID:10000690-1749686400-1750031999@www.dav.org
SUMMARY:Ohio Department Convention
DESCRIPTION:Embassy Suites Dublin\nDublin\, OH \nBanquet date – June 14
URL:https://www.dav.org/events-calendar/ohio-department-convention-3/
END:VEVENT
END:VCALENDAR