BEGIN:VCALENDAR
VERSION:2.0
PRODID:-//DAV - ECPv6.15.20//NONSGML v1.0//EN
CALSCALE:GREGORIAN
METHOD:PUBLISH
X-ORIGINAL-URL:https://www.dav.org
X-WR-CALDESC:Events for DAV
REFRESH-INTERVAL;VALUE=DURATION:PT1H
X-Robots-Tag:noindex
X-PUBLISHED-TTL:PT1H
BEGIN:VTIMEZONE
TZID:America/Kentucky/Louisville
BEGIN:DAYLIGHT
TZOFFSETFROM:-0500
TZOFFSETTO:-0400
TZNAME:EDT
DTSTART:20220313T070000
END:DAYLIGHT
BEGIN:STANDARD
TZOFFSETFROM:-0400
TZOFFSETTO:-0500
TZNAME:EST
DTSTART:20221106T060000
END:STANDARD
BEGIN:DAYLIGHT
TZOFFSETFROM:-0500
TZOFFSETTO:-0400
TZNAME:EDT
DTSTART:20230312T070000
END:DAYLIGHT
BEGIN:STANDARD
TZOFFSETFROM:-0400
TZOFFSETTO:-0500
TZNAME:EST
DTSTART:20231105T060000
END:STANDARD
BEGIN:DAYLIGHT
TZOFFSETFROM:-0500
TZOFFSETTO:-0400
TZNAME:EDT
DTSTART:20240310T070000
END:DAYLIGHT
BEGIN:STANDARD
TZOFFSETFROM:-0400
TZOFFSETTO:-0500
TZNAME:EST
DTSTART:20241103T060000
END:STANDARD
END:VTIMEZONE
BEGIN:VEVENT
DTSTART;VALUE=DATE:20230830
DTEND;VALUE=DATE:20230831
DTSTAMP:20260420T042248
CREATED:20230801T183709Z
LAST-MODIFIED:20230801T183709Z
UID:10000230-1693353600-1693439999@www.dav.org
SUMMARY:Texas Information Seminar
DESCRIPTION:9:00am – 3:00pm \n1000 Farm-To-Market Rd 78\nSchertz\, TX\nHumberto Meza\n210-706-8055\ndavsa.vbhou@va.gov
URL:https://www.dav.org/events-calendar/texas-information-seminar-6/
END:VEVENT
BEGIN:VEVENT
DTSTART;VALUE=DATE:20230830
DTEND;VALUE=DATE:20230831
DTSTAMP:20260420T042248
CREATED:20230801T184239Z
LAST-MODIFIED:20230801T184239Z
UID:10000231-1693353600-1693439999@www.dav.org
SUMMARY:Oklahoma Information Seminar
DESCRIPTION:1:00pm – 4:00pm \n4815 W. Okmulgee St.\nMuskogee\, OK\nAndrew Clark\n918-781-7764\ndav.vbamus@va.gov
URL:https://www.dav.org/events-calendar/oklahoma-information-seminar-2/
END:VEVENT
END:VCALENDAR