BEGIN:VCALENDAR
VERSION:2.0
PRODID:-//DAV - ECPv6.15.20//NONSGML v1.0//EN
CALSCALE:GREGORIAN
METHOD:PUBLISH
X-WR-CALNAME:DAV
X-ORIGINAL-URL:https://www.dav.org
X-WR-CALDESC:Events for DAV
REFRESH-INTERVAL;VALUE=DURATION:PT1H
X-Robots-Tag:noindex
X-PUBLISHED-TTL:PT1H
BEGIN:VTIMEZONE
TZID:America/Kentucky/Louisville
BEGIN:DAYLIGHT
TZOFFSETFROM:-0500
TZOFFSETTO:-0400
TZNAME:EDT
DTSTART:20220313T070000
END:DAYLIGHT
BEGIN:STANDARD
TZOFFSETFROM:-0400
TZOFFSETTO:-0500
TZNAME:EST
DTSTART:20221106T060000
END:STANDARD
BEGIN:DAYLIGHT
TZOFFSETFROM:-0500
TZOFFSETTO:-0400
TZNAME:EDT
DTSTART:20230312T070000
END:DAYLIGHT
BEGIN:STANDARD
TZOFFSETFROM:-0400
TZOFFSETTO:-0500
TZNAME:EST
DTSTART:20231105T060000
END:STANDARD
BEGIN:DAYLIGHT
TZOFFSETFROM:-0500
TZOFFSETTO:-0400
TZNAME:EDT
DTSTART:20240310T070000
END:DAYLIGHT
BEGIN:STANDARD
TZOFFSETFROM:-0400
TZOFFSETTO:-0500
TZNAME:EST
DTSTART:20241103T060000
END:STANDARD
END:VTIMEZONE
BEGIN:VEVENT
DTSTART;VALUE=DATE:20230419
DTEND;VALUE=DATE:20230420
DTSTAMP:20260421T080846
CREATED:20230411T134333Z
LAST-MODIFIED:20230411T134333Z
UID:10000150-1681862400-1681948799@www.dav.org
SUMMARY:Ohio Information Seminar
DESCRIPTION:9:30am – 11:00am \n17600 S. Waterloo Rd.\nCleveland\, OH\nJacob Drost\n216-522-3507\ndav.vbacle@va.gov
URL:https://www.dav.org/events-calendar/ohio-information-seminar/
END:VEVENT
BEGIN:VEVENT
DTSTART;VALUE=DATE:20230419
DTEND;VALUE=DATE:20230420
DTSTAMP:20260421T080846
CREATED:20230411T134458Z
LAST-MODIFIED:20230411T134458Z
UID:10000151-1681862400-1681948799@www.dav.org
SUMMARY:Utah Information Seminar
DESCRIPTION:1:00pm – 3:00pm \n1290 E. 1450 S\nSalt Lake City\, UT\nMatthew Weeg\n801-326-2375\ndav2.vbaslc@va.gov
URL:https://www.dav.org/events-calendar/utah-information-seminar/
END:VEVENT
END:VCALENDAR